BEGIN:VCALENDAR
VERSION:2.0
PRODID:-//Ayuntamiento - Soto del Real - ECPv5.4.0.1//NONSGML v1.0//EN
CALSCALE:GREGORIAN
METHOD:PUBLISH
X-WR-CALNAME:Ayuntamiento - Soto del Real
X-ORIGINAL-URL:https://www.ayto-sotodelreal.es
X-WR-CALDESC:Eventos para Ayuntamiento - Soto del Real
BEGIN:VTIMEZONE
TZID:Europe/Paris
BEGIN:DAYLIGHT
TZOFFSETFROM:+0100
TZOFFSETTO:+0200
TZNAME:CEST
DTSTART:20250330T010000
END:DAYLIGHT
BEGIN:STANDARD
TZOFFSETFROM:+0200
TZOFFSETTO:+0100
TZNAME:CET
DTSTART:20251026T010000
END:STANDARD
END:VTIMEZONE
BEGIN:VEVENT
DTSTART;TZID=Europe/Paris:20250716T104500
DTEND;TZID=Europe/Paris:20250716T193000
DTSTAMP:20260421T160954
CREATED:20250617T095058Z
LAST-MODIFIED:20260216T092321Z
UID:45986-1752662700-1752694200@www.ayto-sotodelreal.es
SUMMARY:EXCURSIÓN WARNER BEACH
DESCRIPTION:Descripción de la actividad:\nLa Casa de la Infancia y Juventud de Soto del Real realizará una excursión a la WARNER BEACH el MIÉRCOLES 16 DE JULIO DE 2025 (el horario es aproximado): \n\n10:45 am: salida desde el parking CEIP Chozas de la Sierra (av. de las Islas s/n).\n19:30 pm: llegada a Soto del Real (misma ubicación que la salida).\n\nDirigido a: nacidos 2015 a 2007.  \nPRECIO: 20€. La excursión incluye AUTOBÚS\, MONITORES Y ENTRADA WARNER BEACH.\nPlazas por riguroso orden de inscripción hasta completar aforo \nDocumentación a entregar   \n\nHoja de inscripción rellena. (se puede entregar online para reservar de la plaza);\nDinero en metálico en sobre cerrado con nombre . 20 € (entregar antes del 7 de julio)\n\nA través del correo juventud@ayto-sotodelreal.es \nA partir del domingo 15 de junio estaremos cerrados\, pero podéis hacernos llegar las inscripciones y el dinero de las mismas presencialmente los días 2 y 3 de julio de 10 a 14 en casa de la juventud\no bien llamando o escribiendo  whatsapp al teléfono 678 60 08 51 \nINSCRIPCIONES HASTA EL 7 DE JULIO. Enlace a hoja de inscripción \n¿Qué llevar? \n\nRopa y calzado cómodo\, bañador\, toalla y chanclas.\nCAMISETA VERDE LISA (obligatorio)\nAlmuerzo\, comida y agua.\nGorro y crema solar.\n\n 
URL:https://www.ayto-sotodelreal.es/event/excursion-warner-beach/
CATEGORIES:Juventud
ATTACH;FMTTYPE=image/png:https://www.ayto-sotodelreal.es/wp-content/uploads/2025/06/25.07.16-EXCURSION-WARNER-BEACH.png
END:VEVENT
END:VCALENDAR