BEGIN:VCALENDAR
VERSION:2.0
PRODID:-//Ayuntamiento - Soto del Real - ECPv5.4.0.1//NONSGML v1.0//EN
CALSCALE:GREGORIAN
METHOD:PUBLISH
X-WR-CALNAME:Ayuntamiento - Soto del Real
X-ORIGINAL-URL:https://www.ayto-sotodelreal.es
X-WR-CALDESC:Eventos para Ayuntamiento - Soto del Real
BEGIN:VTIMEZONE
TZID:Europe/Paris
BEGIN:DAYLIGHT
TZOFFSETFROM:+0100
TZOFFSETTO:+0200
TZNAME:CEST
DTSTART:20190331T010000
END:DAYLIGHT
BEGIN:STANDARD
TZOFFSETFROM:+0200
TZOFFSETTO:+0100
TZNAME:CET
DTSTART:20191027T010000
END:STANDARD
END:VTIMEZONE
BEGIN:VEVENT
DTSTART;TZID=Europe/Paris:20190724T110000
DTEND;TZID=Europe/Paris:20190724T200000
DTSTAMP:20260424T174616
CREATED:20190620T101610Z
LAST-MODIFIED:20190703T090945Z
UID:19389-1563966000-1563998400@www.ayto-sotodelreal.es
SUMMARY:EXCURSIÓN AL PARQUE WARNER
DESCRIPTION:EXCURSIÓN AL PARQUE WARNER  \n24 de julio  \nSalida 11:00h y llegada 20:00h desde el CEIP Virgen del Rosario  \nINSCRIPCIONES: Casa de la juventud y juventud@ayto-sotodelreal.es(Plazas limitadas). \nInscripción Warner \nPRECIO: 25€ por participante. Incluye la entrada al Parque Warner y el transporte en autobús. \nNos vamos de excursión al Parque Warner. Si tienes entre 11 y 17 años y quieres venir con nosotros a disfrutar de un día lleno de diversión y atracciones sólo tienes que apuntarte. \n 
URL:https://www.ayto-sotodelreal.es/event/excursion-al-parque-warner-2/
CATEGORIES:Juventud
END:VEVENT
END:VCALENDAR