BEGIN:VCALENDAR
VERSION:2.0
PRODID:-//Ayuntamiento - Soto del Real - ECPv5.4.0.1//NONSGML v1.0//EN
CALSCALE:GREGORIAN
METHOD:PUBLISH
X-WR-CALNAME:Ayuntamiento - Soto del Real
X-ORIGINAL-URL:https://www.ayto-sotodelreal.es
X-WR-CALDESC:Eventos para Ayuntamiento - Soto del Real
BEGIN:VTIMEZONE
TZID:Europe/Paris
BEGIN:DAYLIGHT
TZOFFSETFROM:+0100
TZOFFSETTO:+0200
TZNAME:CEST
DTSTART:20190331T010000
END:DAYLIGHT
BEGIN:STANDARD
TZOFFSETFROM:+0200
TZOFFSETTO:+0100
TZNAME:CET
DTSTART:20191027T010000
END:STANDARD
END:VTIMEZONE
BEGIN:VEVENT
DTSTART;TZID=Europe/Paris:20190704T170000
DTEND;TZID=Europe/Paris:20190704T170000
DTSTAMP:20260424T180940
CREATED:20190620T092338Z
LAST-MODIFIED:20190620T092432Z
UID:19377-1562259600-1562259600@www.ayto-sotodelreal.es
SUMMARY:ESCAPE ROOM PARA MENORES
DESCRIPTION:ESCAPE ROOM PARA MENORES  \n4 de julio  \nHorario: 17:00h \nCasa de la Juventud  \nINSCRIPCIONES: Casa de la Juventud y juventud@ayto-sotodelreal.es  \nTras el éxito obtenido en la primera edición del Escape Room Juventud\, el próximo julio organizaremos una nueva edición para menores. Apúntate con tu equipo de hasta 6 personas. \nActividad dirigida a menores de 18 años.
URL:https://www.ayto-sotodelreal.es/event/escape-room-para-menores/
CATEGORIES:Juventud
END:VEVENT
END:VCALENDAR