BEGIN:VCALENDAR
VERSION:2.0
PRODID:-//Ayuntamiento - Soto del Real - ECPv5.4.0.1//NONSGML v1.0//EN
CALSCALE:GREGORIAN
METHOD:PUBLISH
X-WR-CALNAME:Ayuntamiento - Soto del Real
X-ORIGINAL-URL:https://www.ayto-sotodelreal.es
X-WR-CALDESC:Eventos para Ayuntamiento - Soto del Real
BEGIN:VTIMEZONE
TZID:Europe/Paris
BEGIN:DAYLIGHT
TZOFFSETFROM:+0100
TZOFFSETTO:+0200
TZNAME:CEST
DTSTART:20240331T010000
END:DAYLIGHT
BEGIN:STANDARD
TZOFFSETFROM:+0200
TZOFFSETTO:+0100
TZNAME:CET
DTSTART:20241027T010000
END:STANDARD
END:VTIMEZONE
BEGIN:VEVENT
DTSTART;TZID=Europe/Paris:20241201T110000
DTEND;TZID=Europe/Paris:20241201T140000
DTSTAMP:20260423T135230
CREATED:20241113T074052Z
LAST-MODIFIED:20241113T074052Z
UID:42889-1733050800-1733061600@www.ayto-sotodelreal.es
SUMMARY:EL RASTRILLO DE SOTO
DESCRIPTION:
URL:https://www.ayto-sotodelreal.es/event/el-rastrillo-de-soto-17/
LOCATION:Plaza de la Villa\, Plaza de la Villa\, Soto del Real \, madrid \, 28791
CATEGORIES:Medio Ambiente,Municipio,Participación ciudadana
ATTACH;FMTTYPE=image/jpeg:https://www.ayto-sotodelreal.es/wp-content/uploads/2024/11/1000139486.jpg
END:VEVENT
END:VCALENDAR