BEGIN:VCALENDAR
VERSION:2.0
PRODID:-//Ayuntamiento - Soto del Real - ECPv5.4.0.1//NONSGML v1.0//EN
CALSCALE:GREGORIAN
METHOD:PUBLISH
X-WR-CALNAME:Ayuntamiento - Soto del Real
X-ORIGINAL-URL:https://www.ayto-sotodelreal.es
X-WR-CALDESC:Eventos para Ayuntamiento - Soto del Real
BEGIN:VTIMEZONE
TZID:Europe/Paris
BEGIN:DAYLIGHT
TZOFFSETFROM:+0100
TZOFFSETTO:+0200
TZNAME:CEST
DTSTART:20260329T010000
END:DAYLIGHT
BEGIN:STANDARD
TZOFFSETFROM:+0200
TZOFFSETTO:+0100
TZNAME:CET
DTSTART:20261025T010000
END:STANDARD
END:VTIMEZONE
BEGIN:VEVENT
DTSTART;TZID=Europe/Paris:20260128T173000
DTEND;TZID=Europe/Paris:20260128T173000
DTSTAMP:20260425T160340
CREATED:20260107T083604Z
LAST-MODIFIED:20260116T092537Z
UID:48347-1769621400-1769621400@www.ayto-sotodelreal.es
SUMMARY:CUENTACUENTOS: CUENTOS DE RISA PARA GENTE SIN PRISA
DESCRIPTION:FECHA: Miércoles 28 enero;  \nHORA: 17:30h; \nLUGAR: Salón de actos Centro Cultural; \nPÚBLICO: Público familiar a partir de 4 años; \nENTRADA: libre hasta completar aforo. \nCuentacuentos con Juan Malabar  
URL:https://www.ayto-sotodelreal.es/event/cuentacuentos-cuentos-de-risa-para-gente-sin-prisa/
LOCATION:Centro Cultural Pedro de Lorenzo\, C/ Real\, nº6\, Soto del Real\, Madrid\, 28791\, España
CATEGORIES:Biblioteca,Cultura
END:VEVENT
END:VCALENDAR