BEGIN:VCALENDAR
VERSION:2.0
PRODID:-//Ayuntamiento - Soto del Real - ECPv5.4.0.1//NONSGML v1.0//EN
CALSCALE:GREGORIAN
METHOD:PUBLISH
X-WR-CALNAME:Ayuntamiento - Soto del Real
X-ORIGINAL-URL:https://www.ayto-sotodelreal.es
X-WR-CALDESC:Eventos para Ayuntamiento - Soto del Real
BEGIN:VTIMEZONE
TZID:Europe/Paris
BEGIN:DAYLIGHT
TZOFFSETFROM:+0100
TZOFFSETTO:+0200
TZNAME:CEST
DTSTART:20260329T010000
END:DAYLIGHT
BEGIN:STANDARD
TZOFFSETFROM:+0200
TZOFFSETTO:+0100
TZNAME:CET
DTSTART:20261025T010000
END:STANDARD
END:VTIMEZONE
BEGIN:VEVENT
DTSTART;TZID=Europe/Paris:20260707T110000
DTEND;TZID=Europe/Paris:20260707T130000
DTSTAMP:20260421T201156
CREATED:20260405T082212Z
LAST-MODIFIED:20260405T082212Z
UID:49792-1783422000-1783429200@www.ayto-sotodelreal.es
SUMMARY:CREAR EL MAPA Y LA SINOPSIS DE TU NOVELA CON D. VILLEGAS
DESCRIPTION:DÍA: Martes 7\,14\, 21 y 28 de julio; \nHORA: 11:00 a 13:00 h; \nLUGAR: Aula 1 del Centro Cultural. 
URL:https://www.ayto-sotodelreal.es/event/crear-el-mapa-y-la-sinopsis-de-tu-novela-con-d-villegas/
LOCATION:Centro Cultural Pedro de Lorenzo\, C/ Real\, nº6\, Soto del Real\, Madrid\, 28791\, España
CATEGORIES:Biblioteca,Cultura,Mayores
END:VEVENT
END:VCALENDAR