BEGIN:VCALENDAR
VERSION:2.0
PRODID:-//Ayuntamiento - Soto del Real - ECPv5.4.0.1//NONSGML v1.0//EN
CALSCALE:GREGORIAN
METHOD:PUBLISH
X-WR-CALNAME:Ayuntamiento - Soto del Real
X-ORIGINAL-URL:https://www.ayto-sotodelreal.es
X-WR-CALDESC:Eventos para Ayuntamiento - Soto del Real
BEGIN:VTIMEZONE
TZID:Europe/Paris
BEGIN:DAYLIGHT
TZOFFSETFROM:+0100
TZOFFSETTO:+0200
TZNAME:CEST
DTSTART:20250330T010000
END:DAYLIGHT
BEGIN:STANDARD
TZOFFSETFROM:+0200
TZOFFSETTO:+0100
TZNAME:CET
DTSTART:20251026T010000
END:STANDARD
END:VTIMEZONE
BEGIN:VEVENT
DTSTART;TZID=Europe/Paris:20251024T200000
DTEND;TZID=Europe/Paris:20251024T200000
DTSTAMP:20260421T201627
CREATED:20250915T081642Z
LAST-MODIFIED:20251023T073733Z
UID:46793-1761336000-1761336000@www.ayto-sotodelreal.es
SUMMARY:CONFERENCIA SOBRE MARIA MOLINER
DESCRIPTION:Conferencia sobre María Moliner con Marcela Ramón y Juan Sobrino\n \n· TIPO DE ACTIVIDAD: Conferencia que ofrece una semblanza personal de María Moliner y de su figura como bibliotecaria\n \n· FECHA: Viernes 24 de octubre DÍA DE LA BIBLIOTECA\n \n· HORA: 20:00 h\n \n· LUGAR: Salón de actos Centro Cultural\n 
URL:https://www.ayto-sotodelreal.es/event/conferencia-sobre-maria-moliner/
LOCATION:Centro Cultural Pedro de Lorenzo\, C/ Real\, nº6\, Soto del Real\, Madrid\, 28791\, España
CATEGORIES:Biblioteca,Cultura
ATTACH;FMTTYPE=image/png:https://www.ayto-sotodelreal.es/wp-content/uploads/2025/09/Charla-Maria-Moliner.png
END:VEVENT
END:VCALENDAR