BEGIN:VCALENDAR
VERSION:2.0
PRODID:-//Ayuntamiento - Soto del Real - ECPv5.4.0.1//NONSGML v1.0//EN
CALSCALE:GREGORIAN
METHOD:PUBLISH
X-WR-CALNAME:Ayuntamiento - Soto del Real
X-ORIGINAL-URL:https://www.ayto-sotodelreal.es
X-WR-CALDESC:Eventos para Ayuntamiento - Soto del Real
BEGIN:VTIMEZONE
TZID:Europe/Paris
BEGIN:DAYLIGHT
TZOFFSETFROM:+0100
TZOFFSETTO:+0200
TZNAME:CEST
DTSTART:20260329T010000
END:DAYLIGHT
BEGIN:STANDARD
TZOFFSETFROM:+0200
TZOFFSETTO:+0100
TZNAME:CET
DTSTART:20261025T010000
END:STANDARD
END:VTIMEZONE
BEGIN:VEVENT
DTSTART;VALUE=DATE:20260131
DTEND;VALUE=DATE:20260201
DTSTAMP:20260420T103905
CREATED:20260129T082206Z
LAST-MODIFIED:20260129T082658Z
UID:48991-1769817600-1769903999@www.ayto-sotodelreal.es
SUMMARY:CONCURSO CARTEL Y VIDEO FESTIVAL RE!
DESCRIPTION:Concurso cartel y vídeo del Festival Re! Soto por la regeneración. \nFECHA: del 31 de enero al 22 de febrero. \nINSCRIPCIÓN: https://docs.google.com/forms/d/e/1FAIpQLSdpOWk4TsZRA7nk-CU6s8QB2hfYRyR0IXi76mFKQA7wGmU1yA/viewform?usp=sharing&ouid=103282455711786780135  \nBASES: \n\npuedes consultar las del concurso del cartel AQUÍ;\npuedes consultar las del concurso de video AQUÍ. \n\n 
URL:https://www.ayto-sotodelreal.es/event/concurso-cartel-y-video-festival-re/
LOCATION:Soto del Real\, Soto del Real 
CATEGORIES:Medio Ambiente,Participación ciudadana
ATTACH;FMTTYPE=image/jpeg:https://www.ayto-sotodelreal.es/wp-content/uploads/2026/01/WhatsApp-Image-2026-01-26-at-5.22.56-PM.jpeg
END:VEVENT
END:VCALENDAR