BEGIN:VCALENDAR
VERSION:2.0
PRODID:-//Ayuntamiento - Soto del Real - ECPv5.4.0.1//NONSGML v1.0//EN
CALSCALE:GREGORIAN
METHOD:PUBLISH
X-WR-CALNAME:Ayuntamiento - Soto del Real
X-ORIGINAL-URL:https://www.ayto-sotodelreal.es
X-WR-CALDESC:Eventos para Ayuntamiento - Soto del Real
BEGIN:VTIMEZONE
TZID:Europe/Paris
BEGIN:DAYLIGHT
TZOFFSETFROM:+0100
TZOFFSETTO:+0200
TZNAME:CEST
DTSTART:20260329T010000
END:DAYLIGHT
BEGIN:STANDARD
TZOFFSETFROM:+0200
TZOFFSETTO:+0100
TZNAME:CET
DTSTART:20261025T010000
END:STANDARD
END:VTIMEZONE
BEGIN:VEVENT
DTSTART;TZID=Europe/Paris:20260726T100000
DTEND;TZID=Europe/Paris:20260726T130000
DTSTAMP:20260425T142738
CREATED:20260405T082836Z
LAST-MODIFIED:20260405T082851Z
UID:49804-1785060000-1785070800@www.ayto-sotodelreal.es
SUMMARY:CONCIERTO HOMENAJE A LOS MAYORES
DESCRIPTION:DÍA: 26 de julio; \nHORA: 10:00 a 13:00 h; \nLUGAR: Residencias del municipio; \nConcierto en residencias para celebrar el Día de los Abuelos. \n 
URL:https://www.ayto-sotodelreal.es/event/concierto-homenaje-a-los-mayores/
LOCATION:Soto del Real\, Soto del Real 
CATEGORIES:Biblioteca,Cultura,Mayores
END:VEVENT
END:VCALENDAR