BEGIN:VCALENDAR
VERSION:2.0
PRODID:-//Ayuntamiento - Soto del Real - ECPv5.4.0.1//NONSGML v1.0//EN
CALSCALE:GREGORIAN
METHOD:PUBLISH
X-WR-CALNAME:Ayuntamiento - Soto del Real
X-ORIGINAL-URL:https://www.ayto-sotodelreal.es
X-WR-CALDESC:Eventos para Ayuntamiento - Soto del Real
BEGIN:VTIMEZONE
TZID:Europe/Paris
BEGIN:DAYLIGHT
TZOFFSETFROM:+0100
TZOFFSETTO:+0200
TZNAME:CEST
DTSTART:20210328T010000
END:DAYLIGHT
BEGIN:STANDARD
TZOFFSETFROM:+0200
TZOFFSETTO:+0100
TZNAME:CET
DTSTART:20211031T010000
END:STANDARD
END:VTIMEZONE
BEGIN:VEVENT
DTSTART;TZID=Europe/Paris:20211206T123000
DTEND;TZID=Europe/Paris:20211206T123000
DTSTAMP:20260423T120700
CREATED:20211017T080535Z
LAST-MODIFIED:20211123T083711Z
UID:29056-1638793800-1638793800@www.ayto-sotodelreal.es
SUMMARY:CONCIERTO DIA DE LA CONSTITUCIÓN: LIS STRING QUARTET
DESCRIPTION:LUGAR: C.A.T. \nHORA: 12:30 h; \nENTRADA: libre hasta completar aforo.  \nLis String Quartett \nViolín 1\, Carlos Gracia\nViolín 2\, Virginia Merino\nViola\, Lorena Sainz \nCello\, Diego Jiménez\nSolistas: Guillermo Jiménez\, flauta; Irene Ces\, clarinete. \nCuarteto creado en el seno de la Atlántida Chamber orquesta e integrado por los solistas de la orquesta. El proyecto Atlántida alberga una primera generación de jóvenes profesionales de extraordinario talento. Los grupos de cámara de la orquesta son fiel reflejo del trabajo que desde hace 6 años su director artístico Manuel Tévar desarrolla con esta extraordinaria generación de músicos. Sus apariciones con solistas internacionales y su presencia en Festivales y salas de relevancia internacional empieza a convertirse en un referente no solo en nuestras fronteras.\nPara este concierto el “Lis string quartett” cuenta con la colaboración del flauta solista de la orquesta\, Guillermo Jiménez y la clarinete solista de la orquesta Irene Ces\, ambos se encuentran en la culminación de su formación en grado y master\, con las más altas calificaciones. \nPROGRAMA: \nPARTE 1 \nB. KOVAKS\nHomenaje a Falla\nAMY BEACH\nTema y variaciones op 80\nPara flauta y cuarteto de cuerdas \nPARTE 2 \nC. DEBUSSY\nSyrinx \nW.A.MOZART\nQuinteto en La M para clarinete y cuerdas\n1.Allegro\n2. Larghetto\n3. Menuetto\n4.Allegretto con variazioni
URL:https://www.ayto-sotodelreal.es/event/concierto-dia-de-la-constitucion-lis-string-quartet/
CATEGORIES:Centro de Arte y Turismo,Cultura,Música
ATTACH;FMTTYPE=image/jpeg:https://www.ayto-sotodelreal.es/wp-content/uploads/2021/10/21_12_06-DIA_CONSTITUCION-scaled.jpeg
END:VEVENT
END:VCALENDAR