BEGIN:VCALENDAR
VERSION:2.0
PRODID:-//Ayuntamiento - Soto del Real - ECPv5.4.0.1//NONSGML v1.0//EN
CALSCALE:GREGORIAN
METHOD:PUBLISH
X-WR-CALNAME:Ayuntamiento - Soto del Real
X-ORIGINAL-URL:https://www.ayto-sotodelreal.es
X-WR-CALDESC:Eventos para Ayuntamiento - Soto del Real
BEGIN:VTIMEZONE
TZID:Europe/Paris
BEGIN:DAYLIGHT
TZOFFSETFROM:+0100
TZOFFSETTO:+0200
TZNAME:CEST
DTSTART:20210328T010000
END:DAYLIGHT
BEGIN:STANDARD
TZOFFSETFROM:+0200
TZOFFSETTO:+0100
TZNAME:CET
DTSTART:20211031T010000
END:STANDARD
END:VTIMEZONE
BEGIN:VEVENT
DTSTART;TZID=Europe/Paris:20210702T203000
DTEND;TZID=Europe/Paris:20210702T203000
DTSTAMP:20260423T135118
CREATED:20210628T125831Z
LAST-MODIFIED:20210628T125831Z
UID:27996-1625257800-1625257800@www.ayto-sotodelreal.es
SUMMARY:CONCIERTO DE CALLE: DOS.
DESCRIPTION:
URL:https://www.ayto-sotodelreal.es/event/concierto-de-calle-dos/
CATEGORIES:Cultura,Música
ATTACH;FMTTYPE=image/png:https://www.ayto-sotodelreal.es/wp-content/uploads/2021/06/07.02-CONCIERTO-DOS-PARQUE-DEL-RIO-reducido-1.png
END:VEVENT
END:VCALENDAR