BEGIN:VCALENDAR
VERSION:2.0
PRODID:-//Ayuntamiento - Soto del Real - ECPv5.4.0.1//NONSGML v1.0//EN
CALSCALE:GREGORIAN
METHOD:PUBLISH
X-WR-CALNAME:Ayuntamiento - Soto del Real
X-ORIGINAL-URL:https://www.ayto-sotodelreal.es
X-WR-CALDESC:Eventos para Ayuntamiento - Soto del Real
BEGIN:VTIMEZONE
TZID:Europe/Paris
BEGIN:DAYLIGHT
TZOFFSETFROM:+0100
TZOFFSETTO:+0200
TZNAME:CEST
DTSTART:20190331T010000
END:DAYLIGHT
BEGIN:STANDARD
TZOFFSETFROM:+0200
TZOFFSETTO:+0100
TZNAME:CET
DTSTART:20191027T010000
END:STANDARD
END:VTIMEZONE
BEGIN:VEVENT
DTSTART;TZID=Europe/Paris:20190316T193000
DTEND;TZID=Europe/Paris:20190316T210000
DTSTAMP:20260423T103639
CREATED:20190218T130523Z
LAST-MODIFIED:20190228T124423Z
UID:17278-1552764600-1552770000@www.ayto-sotodelreal.es
SUMMARY:CONCIERTO CORAL
DESCRIPTION:CONCIERTO CORAL\nActuación del “Coro Voces de la Sierra” de Miraflores de la Sierra\, “Coro de la Facultad de Psicología” de la UAM\, y “Coro Partichela” de Tres Cantos. Con la dirección musical de Cecilia Di Marco y con Jorge Di Renzo al piano.\n16 de Marzo\, a las 19:30h\nCentro de Arte y Turismo (CAT)\nPRECIO: 4€ \nENTRADAS EN: Casa de la Cultura y evenbrite.es
URL:https://www.ayto-sotodelreal.es/event/concierto-coral-2/
CATEGORIES:Centro de Arte y Turismo,Música
END:VEVENT
END:VCALENDAR