BEGIN:VCALENDAR
VERSION:2.0
PRODID:-//Ayuntamiento - Soto del Real - ECPv5.4.0.1//NONSGML v1.0//EN
CALSCALE:GREGORIAN
METHOD:PUBLISH
X-WR-CALNAME:Ayuntamiento - Soto del Real
X-ORIGINAL-URL:https://www.ayto-sotodelreal.es
X-WR-CALDESC:Eventos para Ayuntamiento - Soto del Real
BEGIN:VTIMEZONE
TZID:Europe/Paris
BEGIN:DAYLIGHT
TZOFFSETFROM:+0100
TZOFFSETTO:+0200
TZNAME:CEST
DTSTART:20220327T010000
END:DAYLIGHT
BEGIN:STANDARD
TZOFFSETFROM:+0200
TZOFFSETTO:+0100
TZNAME:CET
DTSTART:20221030T010000
END:STANDARD
END:VTIMEZONE
BEGIN:VEVENT
DTSTART;TZID=Europe/Paris:20220723T203000
DTEND;TZID=Europe/Paris:20220723T203000
DTSTAMP:20260420T144843
CREATED:20220506T095546Z
LAST-MODIFIED:20220721T100745Z
UID:31485-1658608200-1658608200@www.ayto-sotodelreal.es
SUMMARY:CIRQUEANDO "¿Y TÚ\, SABES CUIDAR?"
DESCRIPTION:DÍA: SÁBADO 23 JULIO \nHORA: 20:30 h. \nLUGAR: En el CAT (Red de Teatros CAM) \nENTRADAS: 5€ mutickeros.com \nPÚBLICO: A partir de 14 años. \nCIRQUEANDO 2022 – Festival de Circo de la Sierra de Madrid \nNueveuno “Y tú\, ¿Sabes Cuidar?- \n \nVemos en escena a cinco hombres. Son normales\, están subidos en un escenario. Cada uno distinto y todos iguales. Se cuidan\, se empujan y celebran juntos. Están lanzando cuchillos contra su propia sombra\, mirando para sí\, moviendo los focos para iluminar espacios distintos\, mostrando su intimidad\, y desnudándose para escuchar. Hombres que se cuestionan constantemente\, pero se regodean en su propia identidad… son\, al fin y al cabo\, cinco hombres.\nTodo en Suspensión es el resultado de dos años de trabajo de un gran equipo. Las coreografías de malabares han sido entrenadas y revisadas hasta el extremo\, la música ha sido compuesta durante la creación\, la escenografía evolucionada constantemente\, la magia entrenada hasta la saciedad\, las grabaciones de nuestros padres y hermanos y abuelas y novias rehechas hasta destilar la esencia de la propuesta. Un trabajo con nosotros mismos y con todo lo demás.\nSuspensión es un espectáculo llamado a transmitir. Es una propuesta de circo contemporáneo en la que nos gustaría que el público se pueda ver y emocionar. Es nuestra pelota lanzada al aire que alcanza el instante de suspensión; el momento en que todo puede pasar\, el momento en que podemos ceder a la gravedad\, o tomar decisiones distintas\, el momento en que una pelota se queda flotando y con ello todos en el escenario contenemos el aliento. El momento de Suspensión.\nEnlace al clip de promoción: https://vimeo.com/428969687?embedded=true&source=vimeo_logo&owner=37776403 \nMás CIRQUEANDO EN https://cirqueando.es/home 
URL:https://www.ayto-sotodelreal.es/event/cirqueando-y-tu-sabes-cuidar/
CATEGORIES:Centro de Arte y Turismo,Cultura,Juventud,Mayores,Teatro,Turismo
ATTACH;FMTTYPE=image/jpeg:https://www.ayto-sotodelreal.es/wp-content/uploads/2022/05/CARTEL-A3-SOTO-23-JULIO-SABES-CUIDAR.jpg
END:VEVENT
END:VCALENDAR