BEGIN:VCALENDAR
VERSION:2.0
PRODID:-//Ayuntamiento - Soto del Real - ECPv5.4.0.1//NONSGML v1.0//EN
CALSCALE:GREGORIAN
METHOD:PUBLISH
X-WR-CALNAME:Ayuntamiento - Soto del Real
X-ORIGINAL-URL:https://www.ayto-sotodelreal.es
X-WR-CALDESC:Eventos para Ayuntamiento - Soto del Real
BEGIN:VTIMEZONE
TZID:Europe/Paris
BEGIN:DAYLIGHT
TZOFFSETFROM:+0100
TZOFFSETTO:+0200
TZNAME:CEST
DTSTART:20220327T010000
END:DAYLIGHT
BEGIN:STANDARD
TZOFFSETFROM:+0200
TZOFFSETTO:+0100
TZNAME:CET
DTSTART:20221030T010000
END:STANDARD
END:VTIMEZONE
BEGIN:VEVENT
DTSTART;TZID=Europe/Paris:20220722T203000
DTEND;TZID=Europe/Paris:20220722T203000
DTSTAMP:20260420T144718
CREATED:20220506T095259Z
LAST-MODIFIED:20220721T100351Z
UID:31482-1658521800-1658521800@www.ayto-sotodelreal.es
SUMMARY:CIRQUEANDO "LA CHIMBA"
DESCRIPTION:CIRQUEANDO 2022 – Festival de Circo de la Sierra de Madrid\nVIERNES 22 DE JULIO – 20:30 h.\nEspectáculo gamberro\, juvenil y callejero.\nEdad recomendada: Todos los públicos. \nThe Shesters “La Chimba” Plaza de la Villa. \n\nLa chimba en colombiano es una expresión como para decir que algo es genial\, que algo es bueno.\nEn este caso utilizamos el termino la chimba para denominar este espectáculo\, donde LA CHIMBA no llega a ser un circo ya que no hay una carpa o una pista\, no llega a ser cine ya que no hay un proyector ni una gran pantalla… pero es un espectáculo donde malabares\, equilibrismos\, antipodismos y humor podrían hacen un ligero viaje por el cine o simplemente un show donde adultes\, niñes y todes públicos pasen un rato CHIMBA.\n \nLes responsables de este circo son Manoela desde Brasil y Nebur de la Mancha\, su unión forman la compañía Vallisoletana THE SHESTER´S. Estos dos personajes aman su trabajo y lo disfrutan sabiendo que el show es el momento CHIMBA\n\n \n \n \n\nMás CIRQUEANDO EN https://cirqueando.es/home 
URL:https://www.ayto-sotodelreal.es/event/cirqueando-la-chimba/
CATEGORIES:Familia,Infantil,Teatro
ATTACH;FMTTYPE=image/jpeg:https://www.ayto-sotodelreal.es/wp-content/uploads/2022/05/CARTEL-A3-SOTO-22-JULIO-SHESTERS.jpg
END:VEVENT
END:VCALENDAR