BEGIN:VCALENDAR
VERSION:2.0
PRODID:-//Ayuntamiento - Soto del Real - ECPv5.4.0.1//NONSGML v1.0//EN
CALSCALE:GREGORIAN
METHOD:PUBLISH
X-WR-CALNAME:Ayuntamiento - Soto del Real
X-ORIGINAL-URL:https://www.ayto-sotodelreal.es
X-WR-CALDESC:Eventos para Ayuntamiento - Soto del Real
BEGIN:VTIMEZONE
TZID:Europe/Paris
BEGIN:DAYLIGHT
TZOFFSETFROM:+0100
TZOFFSETTO:+0200
TZNAME:CEST
DTSTART:20250330T010000
END:DAYLIGHT
BEGIN:STANDARD
TZOFFSETFROM:+0200
TZOFFSETTO:+0100
TZNAME:CET
DTSTART:20251026T010000
END:STANDARD
END:VTIMEZONE
BEGIN:VEVENT
DTSTART;TZID=Europe/Paris:20251121T193000
DTEND;TZID=Europe/Paris:20251121T193000
DTSTAMP:20260425T161148
CREATED:20251020T060521Z
LAST-MODIFIED:20251021T122257Z
UID:47523-1763753400-1763753400@www.ayto-sotodelreal.es
SUMMARY:CINETECA: SIRAT
DESCRIPTION:SIRAT. Trance en el desierto.\n \n\n\nAño:  2025\nDuración:   114 min.\nPaís:  España\nDirección:  Oliver Laxe\nGuión:  Oliver Laxe\, Santiago Fillol\nReparto:  Sergi López\, Bruno Núñez\, Jade Oukid\, Stefania Gadda.\nMúsica:  Kangding Ray\nFotografía:  Mauro Herce\nGénero:  Drama. Intriga. Thriller/ Road movie. Secuestros/ Desapariciones. Música\n\n\nSinopsis\nUn hombre (Sergi López) y su hijo (Bruno Núñez) llegan a una rave perdida en Marruecos. Buscan a Mar\, su hija y hermana\, desaparecida hace meses en una de esas fiestas sin amanecer. Reparten su foto una y otra vez rodeados de música electrónica y un tipo de libertad que desconocen. Conocen a un grupo de raveros y deciden seguirlos a una última fiesta que se celebrará en el desierto\, donde esperan encontrar a la joven desaparecida. \nSeleccionada por España como candidata al Oscar a Mejor película internacional.\n\nTEASER: https://www.dailymotion.com/video/x9j47us 
URL:https://www.ayto-sotodelreal.es/event/cineteca-sirat/
LOCATION:CENTRO DE ARTE Y TURISMO (CAT)
CATEGORIES:Centro de Arte y Turismo,Cine,Cultura
ATTACH;FMTTYPE=image/jpeg:https://www.ayto-sotodelreal.es/wp-content/uploads/2025/10/cineteca-SIRAT-SOTO-DEL-REAL-1.jpg
END:VEVENT
END:VCALENDAR