BEGIN:VCALENDAR
VERSION:2.0
PRODID:-//Ayuntamiento - Soto del Real - ECPv5.4.0.1//NONSGML v1.0//EN
CALSCALE:GREGORIAN
METHOD:PUBLISH
X-WR-CALNAME:Ayuntamiento - Soto del Real
X-ORIGINAL-URL:https://www.ayto-sotodelreal.es
X-WR-CALDESC:Eventos para Ayuntamiento - Soto del Real
BEGIN:VTIMEZONE
TZID:Europe/Paris
BEGIN:DAYLIGHT
TZOFFSETFROM:+0100
TZOFFSETTO:+0200
TZNAME:CEST
DTSTART:20190331T010000
END:DAYLIGHT
BEGIN:STANDARD
TZOFFSETFROM:+0200
TZOFFSETTO:+0100
TZNAME:CET
DTSTART:20191027T010000
END:STANDARD
END:VTIMEZONE
BEGIN:VEVENT
DTSTART;TZID=Europe/Paris:20190413T190000
DTEND;TZID=Europe/Paris:20190413T203000
DTSTAMP:20260425T143953
CREATED:20190318T100203Z
LAST-MODIFIED:20190318T100203Z
UID:17808-1555182000-1555187400@www.ayto-sotodelreal.es
SUMMARY:CINE: EL NIÑO QUE PUDO SER REY
DESCRIPTION:CINE EN EL CENTRO DE ARTE Y TURISMO (CINE CAT) \nPERDIENDO EL ESTE \nViernes 22 de marzo a las 20:15 h. \nSábado 23 de marzo a las 21:00 h. \nDomingo 24 de marzo a las 19:15 h. \nCÓMO ENTRENAR A TU DRAGÓN 3 \nSábado 23 de marzo a las 17:00 y 19:00 h. \nDomingo 24 de marzo a las 17:00 h. \nBOHEMIAN RHAPSODY \nSábado 30 de marzo a las 21:00 h. \nDomingo 31 de marzo a las 20:15 h. \nEL NIÑO QUE PUDO SER REY \nSábado 13 de abril a las 16:45 y 19:00 h. \nDomingo 14 de abril a las 17:00 h. \nTAXI A GIBRALTAR \nViernes 12 de abril a las 20:15 h. \nSábado 13 de abril a las 21:15 h. \nDomingo 14 de abril a las 19:15 h.
URL:https://www.ayto-sotodelreal.es/event/cine-el-nino-que-pudo-ser-rey-2/
CATEGORIES:Centro de Arte y Turismo,Cine
END:VEVENT
END:VCALENDAR