BEGIN:VCALENDAR
VERSION:2.0
PRODID:-//Ayuntamiento - Soto del Real - ECPv5.4.0.1//NONSGML v1.0//EN
CALSCALE:GREGORIAN
METHOD:PUBLISH
X-WR-CALNAME:Ayuntamiento - Soto del Real
X-ORIGINAL-URL:https://www.ayto-sotodelreal.es
X-WR-CALDESC:Eventos para Ayuntamiento - Soto del Real
BEGIN:VTIMEZONE
TZID:Europe/Paris
BEGIN:DAYLIGHT
TZOFFSETFROM:+0100
TZOFFSETTO:+0200
TZNAME:CEST
DTSTART:20190331T010000
END:DAYLIGHT
BEGIN:STANDARD
TZOFFSETFROM:+0200
TZOFFSETTO:+0100
TZNAME:CET
DTSTART:20191027T010000
END:STANDARD
END:VTIMEZONE
BEGIN:VEVENT
DTSTART;TZID=Europe/Paris:20190505T190000
DTEND;TZID=Europe/Paris:20190505T203000
DTSTAMP:20260423T011253
CREATED:20190417T105620Z
LAST-MODIFIED:20190417T105620Z
UID:18277-1557082800-1557088200@www.ayto-sotodelreal.es
SUMMARY:CINE DOCUMENTAL
DESCRIPTION:ASOCIACIÓN CULTURAL CHOZAS DE LA SIERRA \nIV CICLO DE CINE DOCUMENTAL  \n5 de mayo a las 19:00 h \nCentro de Arte y Turismo (CAT) \nRECETAS PARA EL DESASTRE\,  2008 dirigido por John Webster. Candidata a los premios Goya a mejor película europea en 2010. \nEl director convence a su mujer y sus dos hijos para que toda su familia empiece una “dieta del petróleo” durante un año entero\, pero sin abandonar su estilo de vida de familia de clase media. La experiencia se convierte en una comedia de errores: acaban cuestionando sus valores\, poniendo a prueba su fuerza de voluntad\, y en última instancia\, su felicidad. \nMÁS INFORMACIÓN: ambientales@chozasdelasierra.org/ www.chozasdelasierra.org / https://amigosdelatierramadrid.org/
URL:https://www.ayto-sotodelreal.es/event/cine-documental/
CATEGORIES:Centro de Arte y Turismo,Cine
END:VEVENT
END:VCALENDAR