BEGIN:VCALENDAR
VERSION:2.0
PRODID:-//Ayuntamiento - Soto del Real - ECPv5.4.0.1//NONSGML v1.0//EN
CALSCALE:GREGORIAN
METHOD:PUBLISH
X-WR-CALNAME:Ayuntamiento - Soto del Real
X-ORIGINAL-URL:https://www.ayto-sotodelreal.es
X-WR-CALDESC:Eventos para Ayuntamiento - Soto del Real
BEGIN:VTIMEZONE
TZID:Europe/Paris
BEGIN:DAYLIGHT
TZOFFSETFROM:+0100
TZOFFSETTO:+0200
TZNAME:CEST
DTSTART:20250330T010000
END:DAYLIGHT
BEGIN:STANDARD
TZOFFSETFROM:+0200
TZOFFSETTO:+0100
TZNAME:CET
DTSTART:20251026T010000
END:STANDARD
END:VTIMEZONE
BEGIN:VEVENT
DTSTART;TZID=Europe/Paris:20250711T221500
DTEND;TZID=Europe/Paris:20250712T221500
DTSTAMP:20260423T140609
CREATED:20250621T112420Z
LAST-MODIFIED:20250623T060405Z
UID:46036-1752272100-1752358500@www.ayto-sotodelreal.es
SUMMARY:CINE DE VERANO: EL CASOPLÓN
DESCRIPTION:Duración:  1 h. 28 minutos.\nGénero:  Comedia. Cine Familiar.\nAPTA PARA TODOS LOS PÚBLICOS\n\nTrailer:  https://youtu.be/HPT-SrFxKuc?feature=shared\n\n\nPaís:  España\nDirección: Joaquín Mazón\nReparto:  Raquel Guerrero\, Pablo Chiapella\, Edurne\, Iñaki Miramón.\n\n\n\nSinopsis\nToñi\, Carlos y sus tres hijos están pasando el peor verano de sus vidas; sin vacaciones\, encerrados en un piso de 50 metros cuadrados y con ambos padres trabajando a tiempo completo. Y para colmo se estropea el aire acondicionado en plena ola de calor. Toñi y los niños convencen a Carlos para quedarse a dormir en el casoplón vacío donde le ha tocado trabajar como jardinero durante un par de semanas. Lo que iba a ser una escapada puntual del bochorno veraniego se convierte en unas vacaciones inolvidables y llenas de aventuras\, entre mansiones y vecinas famosas\, que transformarán a los miembros de esta familia y les harán replantearse lo que de verdad es importante para cada uno de ellos.
URL:https://www.ayto-sotodelreal.es/event/cine-de-verano-el-casoplon/
CATEGORIES:Centro de Arte y Turismo,Cine,Cultura
ATTACH;FMTTYPE=image/jpeg:https://www.ayto-sotodelreal.es/wp-content/uploads/2025/06/el_casoplon-993095418-large.jpg
END:VEVENT
END:VCALENDAR