BEGIN:VCALENDAR
VERSION:2.0
PRODID:-//Ayuntamiento - Soto del Real - ECPv5.4.0.1//NONSGML v1.0//EN
CALSCALE:GREGORIAN
METHOD:PUBLISH
X-WR-CALNAME:Ayuntamiento - Soto del Real
X-ORIGINAL-URL:https://www.ayto-sotodelreal.es
X-WR-CALDESC:Eventos para Ayuntamiento - Soto del Real
BEGIN:VTIMEZONE
TZID:Europe/Paris
BEGIN:DAYLIGHT
TZOFFSETFROM:+0100
TZOFFSETTO:+0200
TZNAME:CEST
DTSTART:20200329T010000
END:DAYLIGHT
BEGIN:STANDARD
TZOFFSETFROM:+0200
TZOFFSETTO:+0100
TZNAME:CET
DTSTART:20201025T010000
END:STANDARD
END:VTIMEZONE
BEGIN:VEVENT
DTSTART;TZID=Europe/Paris:20201204T180000
DTEND;TZID=Europe/Paris:20201204T190000
DTSTAMP:20260425T131644
CREATED:20201124T105753Z
LAST-MODIFIED:20201124T105753Z
UID:26072-1607104800-1607108400@www.ayto-sotodelreal.es
SUMMARY:CINE DE ESTRENO: TROLLS (INFANTIL)
DESCRIPTION:CINE DE ESTRENO EN EL CAT DE SOTO \nDurante el Puente de la Constitución podrás disfrutar de cine familiar-infantil con la película de estreno “TROLLS”.  \nVenta de entradas desde 1 hora antes de la proyección en la taquilla del CAT por 5\,5€.  \nAFORO LIMITANDO Y TODAS LAS MEDIDAS DE SEGURIDAD COVID-19.  \n  \n  \n 
URL:https://www.ayto-sotodelreal.es/event/cine-de-estreno-trolls-infantil/
CATEGORIES:Cine
ATTACH;FMTTYPE=image/jpeg:https://www.ayto-sotodelreal.es/wp-content/uploads/2020/11/soto-cat-trolls-2.jpg
END:VEVENT
END:VCALENDAR