BEGIN:VCALENDAR
VERSION:2.0
PRODID:-//Ayuntamiento - Soto del Real - ECPv5.4.0.1//NONSGML v1.0//EN
CALSCALE:GREGORIAN
METHOD:PUBLISH
X-WR-CALNAME:Ayuntamiento - Soto del Real
X-ORIGINAL-URL:https://www.ayto-sotodelreal.es
X-WR-CALDESC:Eventos para Ayuntamiento - Soto del Real
BEGIN:VTIMEZONE
TZID:Europe/Paris
BEGIN:DAYLIGHT
TZOFFSETFROM:+0100
TZOFFSETTO:+0200
TZNAME:CEST
DTSTART:20190331T010000
END:DAYLIGHT
BEGIN:STANDARD
TZOFFSETFROM:+0200
TZOFFSETTO:+0100
TZNAME:CET
DTSTART:20191027T010000
END:STANDARD
END:VTIMEZONE
BEGIN:VEVENT
DTSTART;TZID=Europe/Paris:20191214T100000
DTEND;TZID=Europe/Paris:20191214T143000
DTSTAMP:20260420T143634
CREATED:20191111T111528Z
LAST-MODIFIED:20191111T111528Z
UID:21667-1576317600-1576333800@www.ayto-sotodelreal.es
SUMMARY:CAMPEONATO DE NAVIDAD CLUB CANTO DEL BERRUECO
DESCRIPTION:SÁBADO 14\nCAMPEONATO DE NAVIDAD CLUB CANTO DEL BERRUECO\n10:00 a 14:30 h Polideportivo municipal\nINSCRIPCIÓN: info@cantoberrueco.com\nPRECIO: consultar
URL:https://www.ayto-sotodelreal.es/event/campeonato-de-navidad-club-canto-del-berrueco/
CATEGORIES:Deportes
END:VEVENT
END:VCALENDAR