BEGIN:VCALENDAR
VERSION:2.0
PRODID:-//Ayuntamiento - Soto del Real - ECPv5.4.0.1//NONSGML v1.0//EN
CALSCALE:GREGORIAN
METHOD:PUBLISH
X-WR-CALNAME:Ayuntamiento - Soto del Real
X-ORIGINAL-URL:https://www.ayto-sotodelreal.es
X-WR-CALDESC:Eventos para Ayuntamiento - Soto del Real
BEGIN:VTIMEZONE
TZID:Europe/Paris
BEGIN:DAYLIGHT
TZOFFSETFROM:+0100
TZOFFSETTO:+0200
TZNAME:CEST
DTSTART:20210328T010000
END:DAYLIGHT
BEGIN:STANDARD
TZOFFSETFROM:+0200
TZOFFSETTO:+0100
TZNAME:CET
DTSTART:20211031T010000
END:STANDARD
END:VTIMEZONE
BEGIN:VEVENT
DTSTART;TZID=Europe/Paris:20210806T103000
DTEND;TZID=Europe/Paris:20210806T103000
DTSTAMP:20260425T143413
CREATED:20210719T124157Z
LAST-MODIFIED:20210719T125304Z
UID:28176-1628245800-1628245800@www.ayto-sotodelreal.es
SUMMARY:Campeonato de natación de verano
DESCRIPTION:Campeonato de natación de verano \nViernes 6 de agosto en la piscina de verano \n10:30 inscripciones\n11:00h a 12:00h competición categoría benjamín e infantil \n12:00h inscripciones\n12:30h a 13:30h competición cadete y junior \nCampeonato de natación en el que competirán  por categorías:\nBenjamín: 4 y 5 años. 1 largo (20m) \nInfantil: 6-8 años. Estilo libre y buceo a por un aro\nCadete : 9-12 años. Ida y vuelta estilo libre (40m). Final: 40 metros libre.\nJunior: 13-17 años. Ida y vuelta estilo libre (40m). Final: 4 largos (80m) \nNiños de 4 a 8 años acompañados de familiares\nInscripciones en la entrada de la piscina media hora antes del inicio del campeonato
URL:https://www.ayto-sotodelreal.es/event/campeonato-de-natacion-de-verano/
CATEGORIES:Deportes
END:VEVENT
END:VCALENDAR