BEGIN:VCALENDAR
VERSION:2.0
PRODID:-//Ayuntamiento - Soto del Real - ECPv5.4.0.1//NONSGML v1.0//EN
CALSCALE:GREGORIAN
METHOD:PUBLISH
X-WR-CALNAME:Ayuntamiento - Soto del Real
X-ORIGINAL-URL:https://www.ayto-sotodelreal.es
X-WR-CALDESC:Eventos para Ayuntamiento - Soto del Real
BEGIN:VTIMEZONE
TZID:Europe/Paris
BEGIN:DAYLIGHT
TZOFFSETFROM:+0100
TZOFFSETTO:+0200
TZNAME:CEST
DTSTART:20240331T010000
END:DAYLIGHT
BEGIN:STANDARD
TZOFFSETFROM:+0200
TZOFFSETTO:+0100
TZNAME:CET
DTSTART:20241027T010000
END:STANDARD
END:VTIMEZONE
BEGIN:VEVENT
DTSTART;VALUE=DATE:20241201
DTEND;VALUE=DATE:20241216
DTSTAMP:20260421T134128
CREATED:20240910T094700Z
LAST-MODIFIED:20240910T111222Z
UID:41910-1733011200-1734307199@www.ayto-sotodelreal.es
SUMMARY:CAMPAÑA RECOGIDA DE JUGUETES
DESCRIPTION:FECHA: 1 al 15 de diciembre ; \nLUGAR: Casa de la Juventud\, Centro Cultural\, IES Sierra de Guadarrama y Piscina y Gimnasio Prado Real en sus horarios de apertura; \nLa Campaña de Recogida de Juguetes organizada por la Casa de la Juventud es una iniciativa solidaria que tiene como objetivo recolectar juguetes nuevos o en buen estado para ser distribuidos entre niños y niñas en situación de vulnerabilidad durante la temporada navideña. Este evento busca involucrar a la comunidad\, especialmente a los jóvenes y niños\, en un acto de generosidad y solidaridad. \nCampaña organizada en colaboración con Cáritas y Mancomunidad de Servicios Sociales.
URL:https://www.ayto-sotodelreal.es/event/campana-recogida-de-juguetes-2/
LOCATION:Casa de la Juventud\, C/ Concejo\, 6\, Soto del Real \, Madrid\, 28791
CATEGORIES:Infantil
ATTACH;FMTTYPE=image/png:https://www.ayto-sotodelreal.es/wp-content/uploads/2024/09/16.png
END:VEVENT
END:VCALENDAR