BEGIN:VCALENDAR
VERSION:2.0
PRODID:-//Ayuntamiento - Soto del Real - ECPv5.4.0.1//NONSGML v1.0//EN
CALSCALE:GREGORIAN
METHOD:PUBLISH
X-WR-CALNAME:Ayuntamiento - Soto del Real
X-ORIGINAL-URL:https://www.ayto-sotodelreal.es
X-WR-CALDESC:Eventos para Ayuntamiento - Soto del Real
BEGIN:VTIMEZONE
TZID:Europe/Paris
BEGIN:DAYLIGHT
TZOFFSETFROM:+0100
TZOFFSETTO:+0200
TZNAME:CEST
DTSTART:20250330T010000
END:DAYLIGHT
BEGIN:STANDARD
TZOFFSETFROM:+0200
TZOFFSETTO:+0100
TZNAME:CET
DTSTART:20251026T010000
END:STANDARD
END:VTIMEZONE
BEGIN:VEVENT
DTSTART;VALUE=DATE:20251201
DTEND;VALUE=DATE:20251202
DTSTAMP:20260425T143402
CREATED:20250915T123112Z
LAST-MODIFIED:20251125T124918Z
UID:46891-1764547200-1764633599@www.ayto-sotodelreal.es
SUMMARY:INICIO CAMPAÑA DE RECOGIDA DE JUGUETES
DESCRIPTION:DÍA: 01 al 15/12/2025; \nHORA: En los horarios de apertura de cada espacio; \nLUGAR: Casa de la Juventud\, Centro Cultural\, IES Sierra de Guadarrama y Piscina y Gimnasio Prado Real; \n  \n🎁 Campaña solidaria de Recogida de Juguetes. Una iniciativa para que ningún niño o niña se quede sin ilusión esta Navidad. Puedes donar juguetes nuevos o en buen estado que serán distribuidos entre familias en situación de vulnerabilidad. La campaña está organizada por la Casa de la Juventud en colaboración con Cáritas y la Mancomunidad de Servicios Sociales. \n  \n 
URL:https://www.ayto-sotodelreal.es/event/campana-de-recogida-de-juguetes-3/
LOCATION:Casa de la Juventud\, C/ Concejo\, 6\, Soto del Real \, Madrid\, 28791
CATEGORIES:Fiestas,Infantil,Juventud
ATTACH;FMTTYPE=image/png:https://www.ayto-sotodelreal.es/wp-content/uploads/2025/09/CARTELERIA-2025-2026-21.png
END:VEVENT
END:VCALENDAR