BEGIN:VCALENDAR
VERSION:2.0
PRODID:-//Ayuntamiento - Soto del Real - ECPv5.4.0.1//NONSGML v1.0//EN
CALSCALE:GREGORIAN
METHOD:PUBLISH
X-WR-CALNAME:Ayuntamiento - Soto del Real
X-ORIGINAL-URL:https://www.ayto-sotodelreal.es
X-WR-CALDESC:Eventos para Ayuntamiento - Soto del Real
BEGIN:VTIMEZONE
TZID:Europe/Paris
BEGIN:DAYLIGHT
TZOFFSETFROM:+0100
TZOFFSETTO:+0200
TZNAME:CEST
DTSTART:20240331T010000
END:DAYLIGHT
BEGIN:STANDARD
TZOFFSETFROM:+0200
TZOFFSETTO:+0100
TZNAME:CET
DTSTART:20241027T010000
END:STANDARD
END:VTIMEZONE
BEGIN:VEVENT
DTSTART;TZID=Europe/Paris:20241223T080000
DTEND;TZID=Europe/Paris:20241224T170000
DTSTAMP:20260425T160442
CREATED:20241030T082338Z
LAST-MODIFIED:20241122T120450Z
UID:42593-1734940800-1735059600@www.ayto-sotodelreal.es
SUMMARY:CAMPAMENTOS URBANOS DE NAVIDAD
DESCRIPTION:DÍAS: 23\, 24\, 26\, 27\,30 y 31 de diciembre de 2024 y 2\, 3 y 7 de enero 2025; \nHORA: 9:00 a 16:30 h; \nLUGAR: Colegio Público Virgen del Rosario; \nINSCRIPCIONES: a partir del 25 de noviembre en el Centro Cultural\, enviando la siguiente HOJA DE INSCRIPCIÓN; \nPRECIO: Consulta condiciones en web o en el centro cultural; \nPÚBLICO: nacidos 2013 a 2021; \nMÁS INFORMACIÓN: en el FOLLETO.  \nCampamento urbano para los días no lectivos de las vacaciones de navidad. Actividades\, juegos\, talleres y mucha diversión. \n 
URL:https://www.ayto-sotodelreal.es/event/campamentos-urbanos-de-navidad/
LOCATION:Colegio Virgen del Rosario\, Calle la Orden\, s/n\,\, Soto del Real \, Madrid\, 28791\, España
CATEGORIES:Educación,Fiestas
ATTACH;FMTTYPE=image/png:https://www.ayto-sotodelreal.es/wp-content/uploads/2024/11/CAMPAMENTOS-URBANOS-2024.png
END:VEVENT
END:VCALENDAR