BEGIN:VCALENDAR
VERSION:2.0
PRODID:-//Ayuntamiento - Soto del Real - ECPv5.4.0.1//NONSGML v1.0//EN
CALSCALE:GREGORIAN
METHOD:PUBLISH
X-WR-CALNAME:Ayuntamiento - Soto del Real
X-ORIGINAL-URL:https://www.ayto-sotodelreal.es
X-WR-CALDESC:Eventos para Ayuntamiento - Soto del Real
BEGIN:VTIMEZONE
TZID:Europe/Paris
BEGIN:DAYLIGHT
TZOFFSETFROM:+0100
TZOFFSETTO:+0200
TZNAME:CEST
DTSTART:20250330T010000
END:DAYLIGHT
BEGIN:STANDARD
TZOFFSETFROM:+0200
TZOFFSETTO:+0100
TZNAME:CET
DTSTART:20251026T010000
END:STANDARD
END:VTIMEZONE
BEGIN:VEVENT
DTSTART;TZID=Europe/Paris:20250411T090000
DTEND;TZID=Europe/Paris:20250411T163000
DTSTAMP:20260419T164951
CREATED:20250108T092718Z
LAST-MODIFIED:20250405T091955Z
UID:43351-1744362000-1744389000@www.ayto-sotodelreal.es
SUMMARY:CAMPAMENTOS SEMANA SANTA
DESCRIPTION:FECHA: 11\, 14\,15\,16 y 21 DE ABRIL; \nHORA: 9:00 a 16:30 h;  \nLUGAR: C.P. VIRGEN DEL ROSARIO; \nPÚBLICO: Niños y niñas de infantil y primaria (3 a 12 años). Nacidos 2013 a 2021. \nINSCRIPCIONES: Inscripciones a partir del lunes 3 de febrero de 2025. Descargar hoja de inscripción AQUÍ.  \nMÁS INFO: consulta condiciones en la web o Centro Cultural. Consulta el folleto de actividades AQUÍ.  \nLa Casa de la Juventud organiza el campamento urbano para los días no lectivos de las vacaciones del puente de semana santa. Actividades\, juegos\, talleres y mucha diversión. \n 
URL:https://www.ayto-sotodelreal.es/event/campamentos-semana-santa/
LOCATION:Colegio Virgen del Rosario\, Calle la Orden\, s/n\,\, Soto del Real \, Madrid\, 28791\, España
CATEGORIES:Infantil,Juventud
ATTACH;FMTTYPE=image/png:https://www.ayto-sotodelreal.es/wp-content/uploads/2025/01/CARTELES-ACTIVIDADES-2024-2025-7-1.png
END:VEVENT
END:VCALENDAR