BEGIN:VCALENDAR
VERSION:2.0
PRODID:-//Ayuntamiento - Soto del Real - ECPv5.4.0.1//NONSGML v1.0//EN
CALSCALE:GREGORIAN
METHOD:PUBLISH
X-WR-CALNAME:Ayuntamiento - Soto del Real
X-ORIGINAL-URL:https://www.ayto-sotodelreal.es
X-WR-CALDESC:Eventos para Ayuntamiento - Soto del Real
BEGIN:VTIMEZONE
TZID:Europe/Paris
BEGIN:DAYLIGHT
TZOFFSETFROM:+0100
TZOFFSETTO:+0200
TZNAME:CEST
DTSTART:20260329T010000
END:DAYLIGHT
BEGIN:STANDARD
TZOFFSETFROM:+0200
TZOFFSETTO:+0100
TZNAME:CET
DTSTART:20261025T010000
END:STANDARD
END:VTIMEZONE
BEGIN:VEVENT
DTSTART;VALUE=DATE:20260629
DTEND;VALUE=DATE:20260630
DTSTAMP:20260423T104356
CREATED:20260404T115223Z
LAST-MODIFIED:20260404T115223Z
UID:49777-1782691200-1782777599@www.ayto-sotodelreal.es
SUMMARY:CAMPAMENTO ROBÓTICA
DESCRIPTION:FECHA Turnos semanales del 29 de junio al 24 de julio; \nHORA: L a V 9:30 a 13:30 h; \nLUGAR: Centro Cultural;  \nPRECIO: 150€ por turno con INSCRIPCIÓN PREVIA en Al Salir del Cole.  \nCampamento urbano de robótica para participantes a partir de 3ºE. Primaria
URL:https://www.ayto-sotodelreal.es/event/campamento-robotica/
LOCATION:Centro Cultural Pedro de Lorenzo\, C/ Real\, nº6\, Soto del Real\, Madrid\, 28791\, España
CATEGORIES:Cultura
END:VEVENT
END:VCALENDAR