BEGIN:VCALENDAR
VERSION:2.0
PRODID:-//Ayuntamiento - Soto del Real - ECPv5.4.0.1//NONSGML v1.0//EN
CALSCALE:GREGORIAN
METHOD:PUBLISH
X-WR-CALNAME:Ayuntamiento - Soto del Real
X-ORIGINAL-URL:https://www.ayto-sotodelreal.es
X-WR-CALDESC:Eventos para Ayuntamiento - Soto del Real
BEGIN:VTIMEZONE
TZID:Europe/Paris
BEGIN:DAYLIGHT
TZOFFSETFROM:+0100
TZOFFSETTO:+0200
TZNAME:CEST
DTSTART:20250330T010000
END:DAYLIGHT
BEGIN:STANDARD
TZOFFSETFROM:+0200
TZOFFSETTO:+0100
TZNAME:CET
DTSTART:20251026T010000
END:STANDARD
END:VTIMEZONE
BEGIN:VEVENT
DTSTART;TZID=Europe/Paris:20251023T180000
DTEND;TZID=Europe/Paris:20251023T180000
DTSTAMP:20260425T154124
CREATED:20251001T070121Z
LAST-MODIFIED:20251001T070121Z
UID:47252-1761242400-1761242400@www.ayto-sotodelreal.es
SUMMARY:BINGO. CENTRO DE MAYORES
DESCRIPTION:
URL:https://www.ayto-sotodelreal.es/event/bingo-centro-de-mayores-4/
LOCATION:Centro de Mayores\, Calle La Paloma\, Soto del Real\, Madrid\, 28791\, España
CATEGORIES:Mayores
ATTACH;FMTTYPE=image/png:https://www.ayto-sotodelreal.es/wp-content/uploads/2025/10/Octubre-2025-Centro-de-Mayores.png
END:VEVENT
END:VCALENDAR