BEGIN:VCALENDAR
VERSION:2.0
PRODID:-//Ayuntamiento - Soto del Real - ECPv5.4.0.1//NONSGML v1.0//EN
CALSCALE:GREGORIAN
METHOD:PUBLISH
X-WR-CALNAME:Ayuntamiento - Soto del Real
X-ORIGINAL-URL:https://www.ayto-sotodelreal.es
X-WR-CALDESC:Eventos para Ayuntamiento - Soto del Real
BEGIN:VTIMEZONE
TZID:Europe/Paris
BEGIN:DAYLIGHT
TZOFFSETFROM:+0100
TZOFFSETTO:+0200
TZNAME:CEST
DTSTART:20260329T010000
END:DAYLIGHT
BEGIN:STANDARD
TZOFFSETFROM:+0200
TZOFFSETTO:+0100
TZNAME:CET
DTSTART:20261025T010000
END:STANDARD
END:VTIMEZONE
BEGIN:VEVENT
DTSTART;TZID=Europe/Paris:20260723T210000
DTEND;TZID=Europe/Paris:20260723T210000
DTSTAMP:20260423T121703
CREATED:20260405T092823Z
LAST-MODIFIED:20260421T092828Z
UID:49850-1784840400-1784840400@www.ayto-sotodelreal.es
SUMMARY:ATLANTIDA MUSIC FEST. GRADUS JAZZ
DESCRIPTION:Festival de Música Clásica de la Sierra. \nFECHA: 23 julio; \nHORARIO: 20:30 h; \nLUGAR: Ermita Ntra. Sra. del Rosario; \nENTRADA: libre hasta completar aforo.  \n 
URL:https://www.ayto-sotodelreal.es/event/atlantida-music-fest-gradus-jazz/
LOCATION:Ermita Virgen del Rosario\, Anillo Verde\, Soto del Real\, Madrid\, 28791
CATEGORIES:Cultura,Música
END:VEVENT
END:VCALENDAR