BEGIN:VCALENDAR
VERSION:2.0
PRODID:-//Ayuntamiento - Soto del Real - ECPv5.4.0.1//NONSGML v1.0//EN
CALSCALE:GREGORIAN
METHOD:PUBLISH
X-WR-CALNAME:Ayuntamiento - Soto del Real
X-ORIGINAL-URL:https://www.ayto-sotodelreal.es
X-WR-CALDESC:Eventos para Ayuntamiento - Soto del Real
BEGIN:VTIMEZONE
TZID:Europe/Paris
BEGIN:DAYLIGHT
TZOFFSETFROM:+0100
TZOFFSETTO:+0200
TZNAME:CEST
DTSTART:20260329T010000
END:DAYLIGHT
BEGIN:STANDARD
TZOFFSETFROM:+0200
TZOFFSETTO:+0100
TZNAME:CET
DTSTART:20261025T010000
END:STANDARD
END:VTIMEZONE
BEGIN:VEVENT
DTSTART;TZID=Europe/Paris:20260717T203000
DTEND;TZID=Europe/Paris:20260717T203000
DTSTAMP:20260421T201257
CREATED:20260405T092539Z
LAST-MODIFIED:20260410T065136Z
UID:49846-1784320200-1784320200@www.ayto-sotodelreal.es
SUMMARY:ATLANTIDA MUSIC FEST. ANDREA MARTIN (CELLO) - SUITES DE BACH
DESCRIPTION:Festival de Música Clásica de la Sierra. \nFECHA: 17 julio; \nHORARIO: 20:30 h; \nLUGAR: Iglesia de la Inmaculada Concepción; \nENTRADA: libre hasta completar aforo.  \n 
URL:https://www.ayto-sotodelreal.es/event/atlantida-music-fest-andrea-martin-cello-suites-de-bach/
LOCATION:Iglesia Inmaculada Concepción\, C/ Iglesia\, Soto del Real \, Madrid\, 28791
CATEGORIES:Cultura,Música
END:VEVENT
END:VCALENDAR