BEGIN:VCALENDAR
VERSION:2.0
PRODID:-//Ayuntamiento - Soto del Real - ECPv5.4.0.1//NONSGML v1.0//EN
CALSCALE:GREGORIAN
METHOD:PUBLISH
X-WR-CALNAME:Ayuntamiento - Soto del Real
X-ORIGINAL-URL:https://www.ayto-sotodelreal.es
X-WR-CALDESC:Eventos para Ayuntamiento - Soto del Real
BEGIN:VTIMEZONE
TZID:Europe/Paris
BEGIN:DAYLIGHT
TZOFFSETFROM:+0100
TZOFFSETTO:+0200
TZNAME:CEST
DTSTART:20220327T010000
END:DAYLIGHT
BEGIN:STANDARD
TZOFFSETFROM:+0200
TZOFFSETTO:+0100
TZNAME:CET
DTSTART:20221030T010000
END:STANDARD
END:VTIMEZONE
BEGIN:VEVENT
DTSTART;TZID=Europe/Paris:20220713T110000
DTEND;TZID=Europe/Paris:20220713T110000
DTSTAMP:20260420T144757
CREATED:20220506T085903Z
LAST-MODIFIED:20220607T093226Z
UID:31474-1657710000-1657710000@www.ayto-sotodelreal.es
SUMMARY:AQUOPOLIS
DESCRIPTION:EXCURSIÓN AL AQUOPOLIS \n13 de julio a partir de las 11:00hs hasta las 20hs en el Aquopolis de Villanueva de la Cañada.\n¡Nos vamos de excursión! Ven con la Casa de la Juventud de Soto a disfrutar de un día lleno de diversión\, adrenalina y atracciones acuáticas\, sólo tienes que apuntarte.\nSalimos a las 11:00 del parking de autobuses del CEIP: Chozas de la Sierra.  \nJóvenes de 11 a 17 años. \nPrecio: 20 € por participante. Incluye la entrada al “Aquopolis” y el transporte en autobús.\nMás información e inscripciones en: juventud@ayto-sotodelreal.es
URL:https://www.ayto-sotodelreal.es/event/aquopolis/
CATEGORIES:Juventud
ATTACH;FMTTYPE=image/jpeg:https://www.ayto-sotodelreal.es/wp-content/uploads/2022/05/aquopolis.jpg
END:VEVENT
END:VCALENDAR