BEGIN:VCALENDAR
VERSION:2.0
PRODID:-//Ayuntamiento - Soto del Real - ECPv5.4.0.1//NONSGML v1.0//EN
CALSCALE:GREGORIAN
METHOD:PUBLISH
X-WR-CALNAME:Ayuntamiento - Soto del Real
X-ORIGINAL-URL:https://www.ayto-sotodelreal.es
X-WR-CALDESC:Eventos para Ayuntamiento - Soto del Real
BEGIN:VTIMEZONE
TZID:Europe/Paris
BEGIN:DAYLIGHT
TZOFFSETFROM:+0100
TZOFFSETTO:+0200
TZNAME:CEST
DTSTART:20250330T010000
END:DAYLIGHT
BEGIN:STANDARD
TZOFFSETFROM:+0200
TZOFFSETTO:+0100
TZNAME:CET
DTSTART:20251026T010000
END:STANDARD
END:VTIMEZONE
BEGIN:VEVENT
DTSTART;TZID=Europe/Paris:20251228T190000
DTEND;TZID=Europe/Paris:20251228T190000
DTSTAMP:20260425T133413
CREATED:20251030T085834Z
LAST-MODIFIED:20251217T123302Z
UID:47731-1766948400-1766948400@www.ayto-sotodelreal.es
SUMMARY:AL COMPÁS DE LA NAVIDAD: VILLANCICOS
DESCRIPTION:Concierto coral de villancicos internacionales \nFECHA: 28 de diciembre – 19:00 h. \nLUGAR: CAT \nPÚBLICO: todos los públicos \nENTRADA: libre hasta completar aforo. \nDescripción: \nEl programa tiene un enfoque transfronterizo y multicultural centrado en el nacimiento de Niño Dios. Por lo que el repertorio es muy variado y enriquecedor musical y visualmente.  \nA partir de 10 años. \nDuración: 1 hora y media
URL:https://www.ayto-sotodelreal.es/event/al-compas-de-la-navidad-villancicos/
LOCATION:CENTRO DE ARTE Y TURISMO (CAT)
CATEGORIES:Centro de Arte y Turismo,Cultura,Fiestas
ATTACH;FMTTYPE=image/jpeg:https://www.ayto-sotodelreal.es/wp-content/uploads/2025/10/CORO-PARTICHELA.jpg
END:VEVENT
END:VCALENDAR