BEGIN:VCALENDAR
VERSION:2.0
PRODID:-//Ayuntamiento - Soto del Real - ECPv5.4.0.1//NONSGML v1.0//EN
CALSCALE:GREGORIAN
METHOD:PUBLISH
X-WR-CALNAME:Ayuntamiento - Soto del Real
X-ORIGINAL-URL:https://www.ayto-sotodelreal.es
X-WR-CALDESC:Eventos para Ayuntamiento - Soto del Real
BEGIN:VTIMEZONE
TZID:Europe/Paris
BEGIN:DAYLIGHT
TZOFFSETFROM:+0100
TZOFFSETTO:+0200
TZNAME:CEST
DTSTART:20260329T010000
END:DAYLIGHT
BEGIN:STANDARD
TZOFFSETFROM:+0200
TZOFFSETTO:+0100
TZNAME:CET
DTSTART:20261025T010000
END:STANDARD
END:VTIMEZONE
BEGIN:VEVENT
DTSTART;TZID=Europe/Paris:20260411T193000
DTEND;TZID=Europe/Paris:20260411T193000
DTSTAMP:20260423T121502
CREATED:20260112T082133Z
LAST-MODIFIED:20260115T115529Z
UID:48517-1775935800-1775935800@www.ayto-sotodelreal.es
SUMMARY:ACUARELA: CONCIERTO\, RECITAL POESÍA Y PINTURA
DESCRIPTION:DÍAS: 11 de abril; \nHORA: 19:30 h; \nLUGAR: C.A.T;  \nENTRADA: Entrada gratuita hasta completar aforo. \nDuración: 1 h. 30 minutos. \nConcierto de piano de la obra Acuarelas de Lu Durán\, con poesía en directo de Kata OB y pintura de Óscar Cambra y Jara Sedeño. 
URL:https://www.ayto-sotodelreal.es/event/acuarela-concierto-recital-poesia-y-pintura/
LOCATION:CENTRO DE ARTE Y TURISMO (CAT)
CATEGORIES:Centro de Arte y Turismo,Cultura,Música
ATTACH;FMTTYPE=image/jpeg:https://www.ayto-sotodelreal.es/wp-content/uploads/2026/01/ACUARELAS-LU-DURAN.jpg
END:VEVENT
END:VCALENDAR