BEGIN:VCALENDAR
VERSION:2.0
PRODID:-//Ayuntamiento - Soto del Real - ECPv5.4.0.1//NONSGML v1.0//EN
CALSCALE:GREGORIAN
METHOD:PUBLISH
X-WR-CALNAME:Ayuntamiento - Soto del Real
X-ORIGINAL-URL:https://www.ayto-sotodelreal.es
X-WR-CALDESC:Eventos para Ayuntamiento - Soto del Real
BEGIN:VTIMEZONE
TZID:Europe/Paris
BEGIN:DAYLIGHT
TZOFFSETFROM:+0100
TZOFFSETTO:+0200
TZNAME:CEST
DTSTART:20210328T010000
END:DAYLIGHT
BEGIN:STANDARD
TZOFFSETFROM:+0200
TZOFFSETTO:+0100
TZNAME:CET
DTSTART:20211031T010000
END:STANDARD
END:VTIMEZONE
BEGIN:VEVENT
DTSTART;TZID=Europe/Paris:20211206T120000
DTEND;TZID=Europe/Paris:20211206T120000
DTSTAMP:20260419T151744
CREATED:20211110T084516Z
LAST-MODIFIED:20211110T084516Z
UID:29331-1638792000-1638792000@www.ayto-sotodelreal.es
SUMMARY:ACTOS DÍA DE LA CONSTITUCIÓN
DESCRIPTION:Con asistencia de la Corporación Municipal\, se leerán textos de la Constitución española y se recordará a las mujeres que contribuyeron a su redacción. \nEntrada libre hasta completar aforo.
URL:https://www.ayto-sotodelreal.es/event/actos-dia-de-la-constitucion/
LOCATION:CENTRO DE ARTE Y TURISMO (CAT)
CATEGORIES:Centro de Arte y Turismo,Municipio
ATTACH;FMTTYPE=image/jpeg:https://www.ayto-sotodelreal.es/wp-content/uploads/2021/11/2Constitucion1978.jpg
END:VEVENT
END:VCALENDAR