BEGIN:VCALENDAR
VERSION:2.0
PRODID:-//Ayuntamiento - Soto del Real - ECPv5.4.0.1//NONSGML v1.0//EN
CALSCALE:GREGORIAN
METHOD:PUBLISH
X-WR-CALNAME:Ayuntamiento - Soto del Real
X-ORIGINAL-URL:https://www.ayto-sotodelreal.es
X-WR-CALDESC:Eventos para Ayuntamiento - Soto del Real
BEGIN:VTIMEZONE
TZID:Europe/Paris
BEGIN:DAYLIGHT
TZOFFSETFROM:+0100
TZOFFSETTO:+0200
TZNAME:CEST
DTSTART:20210328T010000
END:DAYLIGHT
BEGIN:STANDARD
TZOFFSETFROM:+0200
TZOFFSETTO:+0100
TZNAME:CET
DTSTART:20211031T010000
END:STANDARD
END:VTIMEZONE
BEGIN:VEVENT
DTSTART;TZID=Europe/Paris:20210924T180000
DTEND;TZID=Europe/Paris:20210924T180000
DTSTAMP:20260422T122555
CREATED:20210911T084249Z
LAST-MODIFIED:20210913T084213Z
UID:28428-1632506400-1632506400@www.ayto-sotodelreal.es
SUMMARY:7ª SEMANA EUROPEA DEL DEPORTE EN SOTO DEL REAL: PING PONG
DESCRIPTION:EVENTO: TORNEO DE PING PONG EN LA CASA DE LA JUVENTUD\nDÍA: Viernes-24\nLUGAR: Jardines de la Casa de la Juventud.\nHORARIO: 18:00 h – 20:00 h.\nEDADES: Jóvenes de 11 a 17 años.\nPRECIO: GRATUITA\nORGANIZACIÓN: CONCEJALÍA DE JUVENTUD
URL:https://www.ayto-sotodelreal.es/event/7a-semana-europea-del-deporte-en-soto-del-real-ping-pong/
CATEGORIES:Deportes
ATTACH;FMTTYPE=image/png:https://www.ayto-sotodelreal.es/wp-content/uploads/2021/09/TORNEO-ping-pong.png
END:VEVENT
END:VCALENDAR