BEGIN:VCALENDAR
VERSION:2.0
PRODID:-//Ayuntamiento - Soto del Real - ECPv5.4.0.1//NONSGML v1.0//EN
CALSCALE:GREGORIAN
METHOD:PUBLISH
X-WR-CALNAME:Ayuntamiento - Soto del Real
X-ORIGINAL-URL:https://www.ayto-sotodelreal.es
X-WR-CALDESC:Eventos para Ayuntamiento - Soto del Real
BEGIN:VTIMEZONE
TZID:Europe/Paris
BEGIN:DAYLIGHT
TZOFFSETFROM:+0100
TZOFFSETTO:+0200
TZNAME:CEST
DTSTART:20260329T010000
END:DAYLIGHT
BEGIN:STANDARD
TZOFFSETFROM:+0200
TZOFFSETTO:+0100
TZNAME:CET
DTSTART:20261025T010000
END:STANDARD
END:VTIMEZONE
BEGIN:VEVENT
DTSTART;TZID=Europe/Paris:20260628T090000
DTEND;TZID=Europe/Paris:20260628T130000
DTSTAMP:20260425T130335
CREATED:20260404T111959Z
LAST-MODIFIED:20260404T112059Z
UID:49749-1782637200-1782651600@www.ayto-sotodelreal.es
SUMMARY:4ª TRAVESIA A NADO PEDRO SANTOS
DESCRIPTION:FECHA: 28 de junio;  \nHORA: 9:00 a 13:00 h; \nLUGAR: Cervera de Buitrago. \nParticipación de la escuela municipal de natación en la 4ª travesia a nado Pedro Santos en Cervera de Buitrago. 
URL:https://www.ayto-sotodelreal.es/event/4a-tracesia-a-nado-pedro-santos/
LOCATION:Complejo deportivo Prado Real\, C/ La Orden\, Soto del Real \, madrid \, 28791
CATEGORIES:Deportes
END:VEVENT
END:VCALENDAR