BEGIN:VCALENDAR
VERSION:2.0
PRODID:-//Ayuntamiento - Soto del Real - ECPv5.4.0.1//NONSGML v1.0//EN
CALSCALE:GREGORIAN
METHOD:PUBLISH
X-WR-CALNAME:Ayuntamiento - Soto del Real
X-ORIGINAL-URL:https://www.ayto-sotodelreal.es
X-WR-CALDESC:Eventos para Ayuntamiento - Soto del Real
BEGIN:VTIMEZONE
TZID:Europe/Paris
BEGIN:DAYLIGHT
TZOFFSETFROM:+0100
TZOFFSETTO:+0200
TZNAME:CEST
DTSTART:20190331T010000
END:DAYLIGHT
BEGIN:STANDARD
TZOFFSETFROM:+0200
TZOFFSETTO:+0100
TZNAME:CET
DTSTART:20191027T010000
END:STANDARD
END:VTIMEZONE
BEGIN:VEVENT
DTSTART;TZID=Europe/Paris:20190726T100000
DTEND;TZID=Europe/Paris:20190728T200000
DTSTAMP:20260424T175039
CREATED:20190620T105507Z
LAST-MODIFIED:20190712T112608Z
UID:19421-1564135200-1564344000@www.ayto-sotodelreal.es
SUMMARY:15º MARATÓN 24H. FÚTBOL SALA FIESTAS 2019
DESCRIPTION:15º MARATÓN 24H. FÚTBOL SALA FIESTAS 2019 \n26\, 27 y 28 de julio \nPolideportivo Municipal Soto Del Real  \nPara mayores de 16 años \nINSCRIPCIONES: Campo de Fútbol: L y X de 20:00 a 23:00h; Piscina Cubierta Soto del Real: L a V de 8:00 a 22:00h y S de 9:00 a 14:00h. Email: torneos@recresoto.com \nDescarga la inscripción aquí.  \nNormas de inscripción aquí.  \nAutorización menores aquí.  \nTeléfono: 661 171 644 140 (Jorge). \nPRECIO: 110€/ Equipo. \nMÁS INFORMACIÓN:torneos@recresoto.com; www.rescresoto.comy teléfono: 661 171 644 140 (Jorge).
URL:https://www.ayto-sotodelreal.es/event/15o-maraton-24h-futbol-sala-fiestas-2019/
CATEGORIES:Deportes
ATTACH;FMTTYPE=image/jpeg:https://www.ayto-sotodelreal.es/wp-content/uploads/2019/06/maraton-futbol-sala-2019-soto-del-real.jpg
END:VEVENT
END:VCALENDAR